BEGIN:VCALENDAR
VERSION:2.0
PRODID:-//Rhode Island Prevention Resource Center (RIPRC) - ECPv6.15.20//NONSGML v1.0//EN
CALSCALE:GREGORIAN
METHOD:PUBLISH
X-WR-CALNAME:Rhode Island Prevention Resource Center (RIPRC)
X-ORIGINAL-URL:https://www.riprc.org
X-WR-CALDESC:Events for Rhode Island Prevention Resource Center (RIPRC)
REFRESH-INTERVAL;VALUE=DURATION:PT1H
X-Robots-Tag:noindex
X-PUBLISHED-TTL:PT1H
BEGIN:VTIMEZONE
TZID:America/New_York
BEGIN:DAYLIGHT
TZOFFSETFROM:-0500
TZOFFSETTO:-0400
TZNAME:EDT
DTSTART:20250309T070000
END:DAYLIGHT
BEGIN:STANDARD
TZOFFSETFROM:-0400
TZOFFSETTO:-0500
TZNAME:EST
DTSTART:20251102T060000
END:STANDARD
BEGIN:DAYLIGHT
TZOFFSETFROM:-0500
TZOFFSETTO:-0400
TZNAME:EDT
DTSTART:20260308T070000
END:DAYLIGHT
BEGIN:STANDARD
TZOFFSETFROM:-0400
TZOFFSETTO:-0500
TZNAME:EST
DTSTART:20261101T060000
END:STANDARD
BEGIN:DAYLIGHT
TZOFFSETFROM:-0500
TZOFFSETTO:-0400
TZNAME:EDT
DTSTART:20270314T070000
END:DAYLIGHT
BEGIN:STANDARD
TZOFFSETFROM:-0400
TZOFFSETTO:-0500
TZNAME:EST
DTSTART:20271107T060000
END:STANDARD
END:VTIMEZONE
BEGIN:VEVENT
DTSTART;TZID=America/New_York:20260420T100000
DTEND;TZID=America/New_York:20260420T120000
DTSTAMP:20260420T013312
CREATED:20260217T211926Z
LAST-MODIFIED:20260217T211926Z
UID:10004339-1776679200-1776686400@www.riprc.org
SUMMARY:Brief Intervention Facilitation: Enhancing Skills and Increasing Efficacy
DESCRIPTION:This is the third session in the three-part series\, UNPACKING THE SBIRT MODEL IN SUBSTANCE USE PREVENTION\, hosted by PTTC. Participants will learn about the Brief Intervention (BI) component of SBIRT (screening\, brief intervention\, and referral to treatment) which uses core communication skills to incite a person’s motivation to address and reduce unhealthy levels of substance use or other at-risk behavior. \nLearn more and register here.
URL:https://www.riprc.org/event/brief-intervention-facilitation-enhancing-skills-and-increasing-efficacy/
END:VEVENT
BEGIN:VEVENT
DTSTART;TZID=America/New_York:20260420T150000
DTEND;TZID=America/New_York:20260420T160000
DTSTAMP:20260420T013312
CREATED:20250904T161411Z
LAST-MODIFIED:20250904T161414Z
UID:10003342-1776697200-1776700800@www.riprc.org
SUMMARY:Kent County Prevention Coalition Meeting
DESCRIPTION:Monthly Coalition Meeting on the 3rd Monday of the month at 3PM except for holidays that fall on a Monday. \nPlease contact Natalie Kimmerlein (nkimmerlein@risas.org) for more information.
URL:https://www.riprc.org/event/kent-county-prevention-coalition-meeting-11-2/2026-04-20/
END:VEVENT
END:VCALENDAR