BEGIN:VCALENDAR
VERSION:2.0
PRODID:-//Rhode Island Prevention Resource Center (RIPRC) - ECPv6.15.20//NONSGML v1.0//EN
CALSCALE:GREGORIAN
METHOD:PUBLISH
X-WR-CALNAME:Rhode Island Prevention Resource Center (RIPRC)
X-ORIGINAL-URL:https://www.riprc.org
X-WR-CALDESC:Events for Rhode Island Prevention Resource Center (RIPRC)
REFRESH-INTERVAL;VALUE=DURATION:PT1H
X-Robots-Tag:noindex
X-PUBLISHED-TTL:PT1H
BEGIN:VTIMEZONE
TZID:America/New_York
BEGIN:DAYLIGHT
TZOFFSETFROM:-0500
TZOFFSETTO:-0400
TZNAME:EDT
DTSTART:20250309T070000
END:DAYLIGHT
BEGIN:STANDARD
TZOFFSETFROM:-0400
TZOFFSETTO:-0500
TZNAME:EST
DTSTART:20251102T060000
END:STANDARD
BEGIN:DAYLIGHT
TZOFFSETFROM:-0500
TZOFFSETTO:-0400
TZNAME:EDT
DTSTART:20260308T070000
END:DAYLIGHT
BEGIN:STANDARD
TZOFFSETFROM:-0400
TZOFFSETTO:-0500
TZNAME:EST
DTSTART:20261101T060000
END:STANDARD
BEGIN:DAYLIGHT
TZOFFSETFROM:-0500
TZOFFSETTO:-0400
TZNAME:EDT
DTSTART:20270314T070000
END:DAYLIGHT
BEGIN:STANDARD
TZOFFSETFROM:-0400
TZOFFSETTO:-0500
TZNAME:EST
DTSTART:20271107T060000
END:STANDARD
END:VTIMEZONE
BEGIN:VEVENT
DTSTART;TZID=America/New_York:20260421T073000
DTEND;TZID=America/New_York:20260421T090000
DTSTAMP:20260421T013258
CREATED:20250814T164807Z
LAST-MODIFIED:20250814T171348Z
UID:10003987-1776756600-1776762000@www.riprc.org
SUMMARY:SPC (Region 1) Regional Meeting
DESCRIPTION:SPC (Region 1) Regional Meeting\nFor more information\, please contact apaiva@tricountyri.org
URL:https://www.riprc.org/event/spc-region-1-regional-meeting/2026-04-21/
END:VEVENT
END:VCALENDAR