BEGIN:VCALENDAR
VERSION:2.0
PRODID:-//Rhode Island Prevention Resource Center (RIPRC) - ECPv6.15.20//NONSGML v1.0//EN
CALSCALE:GREGORIAN
METHOD:PUBLISH
X-WR-CALNAME:Rhode Island Prevention Resource Center (RIPRC)
X-ORIGINAL-URL:https://www.riprc.org
X-WR-CALDESC:Events for Rhode Island Prevention Resource Center (RIPRC)
REFRESH-INTERVAL;VALUE=DURATION:PT1H
X-Robots-Tag:noindex
X-PUBLISHED-TTL:PT1H
BEGIN:VTIMEZONE
TZID:America/New_York
BEGIN:DAYLIGHT
TZOFFSETFROM:-0500
TZOFFSETTO:-0400
TZNAME:EDT
DTSTART:20250309T070000
END:DAYLIGHT
BEGIN:STANDARD
TZOFFSETFROM:-0400
TZOFFSETTO:-0500
TZNAME:EST
DTSTART:20251102T060000
END:STANDARD
BEGIN:DAYLIGHT
TZOFFSETFROM:-0500
TZOFFSETTO:-0400
TZNAME:EDT
DTSTART:20260308T070000
END:DAYLIGHT
BEGIN:STANDARD
TZOFFSETFROM:-0400
TZOFFSETTO:-0500
TZNAME:EST
DTSTART:20261101T060000
END:STANDARD
BEGIN:DAYLIGHT
TZOFFSETFROM:-0500
TZOFFSETTO:-0400
TZNAME:EDT
DTSTART:20270314T070000
END:DAYLIGHT
BEGIN:STANDARD
TZOFFSETFROM:-0400
TZOFFSETTO:-0500
TZNAME:EST
DTSTART:20271107T060000
END:STANDARD
END:VTIMEZONE
BEGIN:VEVENT
DTSTART;VALUE=DATE:20260422
DTEND;VALUE=DATE:20260424
DTSTAMP:20260422T014907
CREATED:20251023T142245Z
LAST-MODIFIED:20251023T142245Z
UID:10004129-1776816000-1776988799@www.riprc.org
SUMMARY:7th Annual Teaching Cannabis (and other drugs!) Awareness and Prevention Virtual Conference
DESCRIPTION:This virtual conference\, led by the Stanford Medicine REACH Lab\, is aimed at educators\, community-based organizations\, school administrators\, healthcare providers\, school resource officers\, counselors\, parents\, and anyone else working with youth. Participants will learn about the newest cannabis\, e-cigarette\, and other drug-related research. \nLearn more and register here.
URL:https://www.riprc.org/event/7th-annual-teaching-cannabis-and-other-drugs-awareness-and-prevention-virtual-conference/
END:VEVENT
BEGIN:VEVENT
DTSTART;TZID=America/New_York:20260422T100000
DTEND;TZID=America/New_York:20260422T113000
DTSTAMP:20260422T014907
CREATED:20260326T193714Z
LAST-MODIFIED:20260326T193714Z
UID:10004362-1776852000-1776857400@www.riprc.org
SUMMARY:Professional Boundaries
DESCRIPTION:ATTC is hosting a training on professional boundaries\, ethics\, dual relationships\, and building a safe working environment. This is a two-part virtual training. \nLearn more and register here.
URL:https://www.riprc.org/event/professional-boundaries/2026-04-22/
END:VEVENT
END:VCALENDAR