BEGIN:VCALENDAR
VERSION:2.0
PRODID:-//Rhode Island Prevention Resource Center (RIPRC) - ECPv6.15.20//NONSGML v1.0//EN
CALSCALE:GREGORIAN
METHOD:PUBLISH
X-WR-CALNAME:Rhode Island Prevention Resource Center (RIPRC)
X-ORIGINAL-URL:https://www.riprc.org
X-WR-CALDESC:Events for Rhode Island Prevention Resource Center (RIPRC)
REFRESH-INTERVAL;VALUE=DURATION:PT1H
X-Robots-Tag:noindex
X-PUBLISHED-TTL:PT1H
BEGIN:VTIMEZONE
TZID:America/New_York
BEGIN:DAYLIGHT
TZOFFSETFROM:-0500
TZOFFSETTO:-0400
TZNAME:EDT
DTSTART:20250309T070000
END:DAYLIGHT
BEGIN:STANDARD
TZOFFSETFROM:-0400
TZOFFSETTO:-0500
TZNAME:EST
DTSTART:20251102T060000
END:STANDARD
BEGIN:DAYLIGHT
TZOFFSETFROM:-0500
TZOFFSETTO:-0400
TZNAME:EDT
DTSTART:20260308T070000
END:DAYLIGHT
BEGIN:STANDARD
TZOFFSETFROM:-0400
TZOFFSETTO:-0500
TZNAME:EST
DTSTART:20261101T060000
END:STANDARD
BEGIN:DAYLIGHT
TZOFFSETFROM:-0500
TZOFFSETTO:-0400
TZNAME:EDT
DTSTART:20270314T070000
END:DAYLIGHT
BEGIN:STANDARD
TZOFFSETFROM:-0400
TZOFFSETTO:-0500
TZNAME:EST
DTSTART:20271107T060000
END:STANDARD
END:VTIMEZONE
BEGIN:VEVENT
DTSTART;TZID=America/New_York:20260501T093000
DTEND;TZID=America/New_York:20260501T103000
DTSTAMP:20260425T075212
CREATED:20251205T174704Z
LAST-MODIFIED:20251205T174704Z
UID:10004309-1777627800-1777631400@www.riprc.org
SUMMARY:Warwick Coalition Meeting
DESCRIPTION:For more information please contact Katelyn Bianco\, kbianco@comcap.org.
URL:https://www.riprc.org/event/warwick-coalition-meeting-3/2026-05-01/
END:VEVENT
BEGIN:VEVENT
DTSTART;TZID=America/New_York:20260605T093000
DTEND;TZID=America/New_York:20260605T103000
DTSTAMP:20260425T075212
CREATED:20251205T174704Z
LAST-MODIFIED:20251205T174704Z
UID:10004310-1780651800-1780655400@www.riprc.org
SUMMARY:Warwick Coalition Meeting
DESCRIPTION:For more information please contact Katelyn Bianco\, kbianco@comcap.org.
URL:https://www.riprc.org/event/warwick-coalition-meeting-3/2026-06-05/
END:VEVENT
BEGIN:VEVENT
DTSTART;TZID=America/New_York:20260807T093000
DTEND;TZID=America/New_York:20260807T103000
DTSTAMP:20260425T075212
CREATED:20251205T174704Z
LAST-MODIFIED:20251205T174704Z
UID:10004311-1786095000-1786098600@www.riprc.org
SUMMARY:Warwick Coalition Meeting
DESCRIPTION:For more information please contact Katelyn Bianco\, kbianco@comcap.org.
URL:https://www.riprc.org/event/warwick-coalition-meeting-3/2026-08-07/
END:VEVENT
BEGIN:VEVENT
DTSTART;TZID=America/New_York:20260904T093000
DTEND;TZID=America/New_York:20260904T103000
DTSTAMP:20260425T075212
CREATED:20251205T174704Z
LAST-MODIFIED:20251205T174704Z
UID:10004312-1788514200-1788517800@www.riprc.org
SUMMARY:Warwick Coalition Meeting
DESCRIPTION:For more information please contact Katelyn Bianco\, kbianco@comcap.org.
URL:https://www.riprc.org/event/warwick-coalition-meeting-3/2026-09-04/
END:VEVENT
BEGIN:VEVENT
DTSTART;TZID=America/New_York:20261002T093000
DTEND;TZID=America/New_York:20261002T103000
DTSTAMP:20260425T075212
CREATED:20251205T174704Z
LAST-MODIFIED:20251205T174704Z
UID:10004313-1790933400-1790937000@www.riprc.org
SUMMARY:Warwick Coalition Meeting
DESCRIPTION:For more information please contact Katelyn Bianco\, kbianco@comcap.org.
URL:https://www.riprc.org/event/warwick-coalition-meeting-3/2026-10-02/
END:VEVENT
BEGIN:VEVENT
DTSTART;TZID=America/New_York:20261106T093000
DTEND;TZID=America/New_York:20261106T103000
DTSTAMP:20260425T075212
CREATED:20251205T174704Z
LAST-MODIFIED:20251205T174704Z
UID:10004314-1793957400-1793961000@www.riprc.org
SUMMARY:Warwick Coalition Meeting
DESCRIPTION:For more information please contact Katelyn Bianco\, kbianco@comcap.org.
URL:https://www.riprc.org/event/warwick-coalition-meeting-3/2026-11-06/
END:VEVENT
BEGIN:VEVENT
DTSTART;TZID=America/New_York:20261204T093000
DTEND;TZID=America/New_York:20261204T103000
DTSTAMP:20260425T075212
CREATED:20251205T174704Z
LAST-MODIFIED:20251205T174704Z
UID:10004315-1796376600-1796380200@www.riprc.org
SUMMARY:Warwick Coalition Meeting
DESCRIPTION:For more information please contact Katelyn Bianco\, kbianco@comcap.org.
URL:https://www.riprc.org/event/warwick-coalition-meeting-3/2026-12-04/
END:VEVENT
END:VCALENDAR