BEGIN:VCALENDAR
VERSION:2.0
PRODID:-//Rhode Island Prevention Resource Center (RIPRC) - ECPv6.15.20//NONSGML v1.0//EN
CALSCALE:GREGORIAN
METHOD:PUBLISH
X-ORIGINAL-URL:https://www.riprc.org
X-WR-CALDESC:Events for Rhode Island Prevention Resource Center (RIPRC)
REFRESH-INTERVAL;VALUE=DURATION:PT1H
X-Robots-Tag:noindex
X-PUBLISHED-TTL:PT1H
BEGIN:VTIMEZONE
TZID:America/New_York
BEGIN:DAYLIGHT
TZOFFSETFROM:-0500
TZOFFSETTO:-0400
TZNAME:EDT
DTSTART:20190310T070000
END:DAYLIGHT
BEGIN:STANDARD
TZOFFSETFROM:-0400
TZOFFSETTO:-0500
TZNAME:EST
DTSTART:20191103T060000
END:STANDARD
BEGIN:DAYLIGHT
TZOFFSETFROM:-0500
TZOFFSETTO:-0400
TZNAME:EDT
DTSTART:20200308T070000
END:DAYLIGHT
BEGIN:STANDARD
TZOFFSETFROM:-0400
TZOFFSETTO:-0500
TZNAME:EST
DTSTART:20201101T060000
END:STANDARD
BEGIN:DAYLIGHT
TZOFFSETFROM:-0500
TZOFFSETTO:-0400
TZNAME:EDT
DTSTART:20210314T070000
END:DAYLIGHT
BEGIN:STANDARD
TZOFFSETFROM:-0400
TZOFFSETTO:-0500
TZNAME:EST
DTSTART:20211107T060000
END:STANDARD
END:VTIMEZONE
BEGIN:VEVENT
DTSTART;TZID=America/New_York:20200827T090000
DTEND;TZID=America/New_York:20200827T160000
DTSTAMP:20260422T091909
CREATED:20200724T203757Z
LAST-MODIFIED:20200724T203757Z
UID:10000986-1598518800-1598544000@www.riprc.org
SUMMARY:(Webinar): Boundary Issues and Dual Relationships in Substance Abuse Treatment
DESCRIPTION:This training is being offered by: The Department of Behavioral Healthcare\, Developmental Disabilities and Hospitals\, and The Substance Use and Mental Health Leadership Council of RI \nIn recent years\, substance abuse treatment professionals have become increasingly aware of ethical issues related to boundaries and dual relationships. Dual relationships occur when professionals enter into more than one relationship with clients and former clients\, whether professional\, social or business. This workshop will provide participants with a comprehensive overview of key boundary and dual relationship issues such as intimate relationships\, friendships\, social contact\, business transactions and self-disclosure. Case examples will be used to illustrate the wide range of issues that arise in practice\, including novel challenges posed by digital technology. The workshop will also present practical strategies and conceptual tools to ensure ethical practice. \nPlease Note: A pre-test is required to be taken before the training. In order to receive a training certificate\, each participant must complete a post-test\, and training evaluation within ten (10) days of completing the training.  Instructions will be provided to the email address that you register with. Thank you. \n  \nFor more information and to Register\, Click here. 
URL:https://www.riprc.org/event/webinar-boundary-issues-and-dual-relationships-in-substance-abuse-treatment/
LOCATION:None
END:VEVENT
END:VCALENDAR