BEGIN:VCALENDAR
VERSION:2.0
PRODID:-//Rhode Island Prevention Resource Center (RIPRC) - ECPv6.15.20//NONSGML v1.0//EN
CALSCALE:GREGORIAN
METHOD:PUBLISH
X-ORIGINAL-URL:https://www.riprc.org
X-WR-CALDESC:Events for Rhode Island Prevention Resource Center (RIPRC)
REFRESH-INTERVAL;VALUE=DURATION:PT1H
X-Robots-Tag:noindex
X-PUBLISHED-TTL:PT1H
BEGIN:VTIMEZONE
TZID:America/New_York
BEGIN:DAYLIGHT
TZOFFSETFROM:-0500
TZOFFSETTO:-0400
TZNAME:EDT
DTSTART:20180311T070000
END:DAYLIGHT
BEGIN:STANDARD
TZOFFSETFROM:-0400
TZOFFSETTO:-0500
TZNAME:EST
DTSTART:20181104T060000
END:STANDARD
BEGIN:DAYLIGHT
TZOFFSETFROM:-0500
TZOFFSETTO:-0400
TZNAME:EDT
DTSTART:20190310T070000
END:DAYLIGHT
BEGIN:STANDARD
TZOFFSETFROM:-0400
TZOFFSETTO:-0500
TZNAME:EST
DTSTART:20191103T060000
END:STANDARD
BEGIN:DAYLIGHT
TZOFFSETFROM:-0500
TZOFFSETTO:-0400
TZNAME:EDT
DTSTART:20200308T070000
END:DAYLIGHT
BEGIN:STANDARD
TZOFFSETFROM:-0400
TZOFFSETTO:-0500
TZNAME:EST
DTSTART:20201101T060000
END:STANDARD
END:VTIMEZONE
BEGIN:VEVENT
DTSTART;TZID=America/New_York:20191107T080000
DTEND;TZID=America/New_York:20191107T114500
DTSTAMP:20260419T125235
CREATED:20190917T141121Z
LAST-MODIFIED:20190917T141121Z
UID:10001029-1573113600-1573127100@www.riprc.org
SUMMARY:The Intersection of Implicit Bias and Clinical Care
DESCRIPTION:This interactive conference will provide an opportunity for participants to explore the role of subtle biases in our daily professional lives. Presenters from multiple disciplines will support participants through various content areas including definitions\, cultural competence\, stigma\, and micro-aggression. \nFor more information or to register\, click here.
URL:https://www.riprc.org/event/the-intersection-of-implicit-bias-and-clinical-care/
LOCATION:Agawam Hunt Club\, 15 Roger Williams Ave\, Rumford\, 02916\, United States
END:VEVENT
END:VCALENDAR