BEGIN:VCALENDAR
VERSION:2.0
PRODID:-//Rhode Island Prevention Resource Center (RIPRC) - ECPv6.15.20//NONSGML v1.0//EN
CALSCALE:GREGORIAN
METHOD:PUBLISH
X-WR-CALNAME:Rhode Island Prevention Resource Center (RIPRC)
X-ORIGINAL-URL:https://www.riprc.org
X-WR-CALDESC:Events for Rhode Island Prevention Resource Center (RIPRC)
REFRESH-INTERVAL;VALUE=DURATION:PT1H
X-Robots-Tag:noindex
X-PUBLISHED-TTL:PT1H
BEGIN:VTIMEZONE
TZID:America/New_York
BEGIN:DAYLIGHT
TZOFFSETFROM:-0500
TZOFFSETTO:-0400
TZNAME:EDT
DTSTART:20180311T070000
END:DAYLIGHT
BEGIN:STANDARD
TZOFFSETFROM:-0400
TZOFFSETTO:-0500
TZNAME:EST
DTSTART:20181104T060000
END:STANDARD
BEGIN:DAYLIGHT
TZOFFSETFROM:-0500
TZOFFSETTO:-0400
TZNAME:EDT
DTSTART:20190310T070000
END:DAYLIGHT
BEGIN:STANDARD
TZOFFSETFROM:-0400
TZOFFSETTO:-0500
TZNAME:EST
DTSTART:20191103T060000
END:STANDARD
BEGIN:DAYLIGHT
TZOFFSETFROM:-0500
TZOFFSETTO:-0400
TZNAME:EDT
DTSTART:20200308T070000
END:DAYLIGHT
BEGIN:STANDARD
TZOFFSETFROM:-0400
TZOFFSETTO:-0500
TZNAME:EST
DTSTART:20201101T060000
END:STANDARD
BEGIN:DAYLIGHT
TZOFFSETFROM:-0500
TZOFFSETTO:-0400
TZNAME:EDT
DTSTART:20210314T070000
END:DAYLIGHT
BEGIN:STANDARD
TZOFFSETFROM:-0400
TZOFFSETTO:-0500
TZNAME:EST
DTSTART:20211107T060000
END:STANDARD
END:VTIMEZONE
BEGIN:VEVENT
DTSTART;TZID=America/New_York:20200116T153000
DTEND;TZID=America/New_York:20200116T163000
DTSTAMP:20260424T021520
CREATED:20191008T141411Z
LAST-MODIFIED:20191008T141411Z
UID:10001165-1579188600-1579192200@www.riprc.org
SUMMARY:North Kingstown Municipal Coalition Meeting
DESCRIPTION:This meeting is held in the Community Conference Room. \nFor more information\, email Heidi Driscoll at hdriscoll@risas.org.
URL:https://www.riprc.org/event/north-kingstown-municipal-coalition-meeting/2020-01-16/
LOCATION:Davisville Academy\, 50 East Ct.\, North Kingstown\, RI\, 02852\, United States
END:VEVENT
BEGIN:VEVENT
DTSTART;TZID=America/New_York:20191219T153000
DTEND;TZID=America/New_York:20191219T163000
DTSTAMP:20260424T021520
CREATED:20191008T141411Z
LAST-MODIFIED:20191008T141411Z
UID:10001164-1576769400-1576773000@www.riprc.org
SUMMARY:North Kingstown Municipal Coalition Meeting
DESCRIPTION:This meeting is held in the Community Conference Room. \nFor more information\, email Heidi Driscoll at hdriscoll@risas.org.
URL:https://www.riprc.org/event/north-kingstown-municipal-coalition-meeting/2019-12-19/
LOCATION:Davisville Academy\, 50 East Ct.\, North Kingstown\, RI\, 02852\, United States
END:VEVENT
BEGIN:VEVENT
DTSTART;TZID=America/New_York:20191121T153000
DTEND;TZID=America/New_York:20191121T163000
DTSTAMP:20260424T021520
CREATED:20191008T141411Z
LAST-MODIFIED:20191008T141411Z
UID:10001163-1574350200-1574353800@www.riprc.org
SUMMARY:North Kingstown Municipal Coalition Meeting
DESCRIPTION:This meeting is held in the Community Conference Room. \nFor more information\, email Heidi Driscoll at hdriscoll@risas.org.
URL:https://www.riprc.org/event/north-kingstown-municipal-coalition-meeting/2019-11-21/
LOCATION:Davisville Academy\, 50 East Ct.\, North Kingstown\, RI\, 02852\, United States
END:VEVENT
BEGIN:VEVENT
DTSTART;TZID=America/New_York:20191017T153000
DTEND;TZID=America/New_York:20191017T163000
DTSTAMP:20260424T021520
CREATED:20191008T141411Z
LAST-MODIFIED:20191008T141411Z
UID:10001162-1571326200-1571329800@www.riprc.org
SUMMARY:North Kingstown Municipal Coalition Meeting
DESCRIPTION:This meeting is held in the Community Conference Room. \nFor more information\, email Heidi Driscoll at hdriscoll@risas.org.
URL:https://www.riprc.org/event/north-kingstown-municipal-coalition-meeting/2019-10-17/
LOCATION:Davisville Academy\, 50 East Ct.\, North Kingstown\, RI\, 02852\, United States
END:VEVENT
BEGIN:VEVENT
DTSTART;TZID=America/New_York:20190925T180000
DTEND;TZID=America/New_York:20190925T200000
DTSTAMP:20260424T021520
CREATED:20190829T193530Z
LAST-MODIFIED:20190829T193530Z
UID:10000139-1569434400-1569441600@www.riprc.org
SUMMARY:Davisville Academy Open House
DESCRIPTION:The North Kingstown Prevention Coalition will be tabling at this event. For more information\, please contact Kathy Yeager at kathy_yeager@nksd.net.
URL:https://www.riprc.org/event/davisville-academy-open-house/
LOCATION:Davisville Academy\, 50 East Ct.\, North Kingstown\, RI\, 02852\, United States
END:VEVENT
BEGIN:VEVENT
DTSTART;TZID=America/New_York:20190907T113000
DTEND;TZID=America/New_York:20190907T123000
DTSTAMP:20260424T021520
CREATED:20190829T202533Z
LAST-MODIFIED:20190829T202533Z
UID:10000141-1567855800-1567859400@www.riprc.org
SUMMARY:Hidden In Plain Sight Exhibit at Davisville Academy
DESCRIPTION:The North Kingstown Prevention Coalition will be tabling and facilitating a Hidden In Plain Sight exhibit at this event. Hidden In Plain Sight is a powerful tool for parents to help identify possible risks and talk openly with their teen to address youth substance use. This tool provides parents with a unique interactive opportunity to look into a Teenager’s Mock Bedroom which is full of common household items that could be used to hide or disguise drug\, alcohol\, tobacco use or other “risky” behaviors. Adults are asked to search for the items\, and then compare their results with the answers. Prevention specialists are on-hand to answer any questions and share resources with parents. This demonstration is purely to bring awareness and give parents tools that will ultimately encourage meaningful conversations with their teen. For more information\, please contact Kathy Yeager at kathy_yeager@nksd.net.
URL:https://www.riprc.org/event/hidden-in-plain-sight-exhibit-at-davisville-academy/
LOCATION:Davisville Academy\, 50 East Ct.\, North Kingstown\, RI\, 02852\, United States
END:VEVENT
END:VCALENDAR