BEGIN:VCALENDAR
VERSION:2.0
PRODID:-//Rhode Island Prevention Resource Center (RIPRC) - ECPv6.15.20//NONSGML v1.0//EN
CALSCALE:GREGORIAN
METHOD:PUBLISH
X-ORIGINAL-URL:https://www.riprc.org
X-WR-CALDESC:Events for Rhode Island Prevention Resource Center (RIPRC)
REFRESH-INTERVAL;VALUE=DURATION:PT1H
X-Robots-Tag:noindex
X-PUBLISHED-TTL:PT1H
BEGIN:VTIMEZONE
TZID:America/New_York
BEGIN:DAYLIGHT
TZOFFSETFROM:-0500
TZOFFSETTO:-0400
TZNAME:EDT
DTSTART:20190310T070000
END:DAYLIGHT
BEGIN:STANDARD
TZOFFSETFROM:-0400
TZOFFSETTO:-0500
TZNAME:EST
DTSTART:20191103T060000
END:STANDARD
BEGIN:DAYLIGHT
TZOFFSETFROM:-0500
TZOFFSETTO:-0400
TZNAME:EDT
DTSTART:20200308T070000
END:DAYLIGHT
BEGIN:STANDARD
TZOFFSETFROM:-0400
TZOFFSETTO:-0500
TZNAME:EST
DTSTART:20201101T060000
END:STANDARD
BEGIN:DAYLIGHT
TZOFFSETFROM:-0500
TZOFFSETTO:-0400
TZNAME:EDT
DTSTART:20210314T070000
END:DAYLIGHT
BEGIN:STANDARD
TZOFFSETFROM:-0400
TZOFFSETTO:-0500
TZNAME:EST
DTSTART:20211107T060000
END:STANDARD
END:VTIMEZONE
BEGIN:VEVENT
DTSTART;TZID=America/New_York:20201221T180000
DTEND;TZID=America/New_York:20201221T193000
DTSTAMP:20260424T133416
CREATED:20200127T202025Z
LAST-MODIFIED:20200330T172202Z
UID:10000510-1608573600-1608579000@www.riprc.org
SUMMARY:Strong Arms Support Group
DESCRIPTION:Do you have a loved one struggling with substance use or who is lost in the throes of addiction? Whether your child or loved one is actively using or you have lost someone to addiction\, join us as we come together to support one another through this journey of hope. \nFor additional information\, contact Terri Censabella or Kate Tokarski at info@charihoyouth.org
URL:https://www.riprc.org/event/strong-arms-support-group-4/2020-12-21/
LOCATION:Hope Recovery Center\, 55 Beach Street\, Westerly\, RI\, 02840\, United States
END:VEVENT
BEGIN:VEVENT
DTSTART;TZID=America/New_York:20201123T180000
DTEND;TZID=America/New_York:20201123T193000
DTSTAMP:20260424T133416
CREATED:20200127T202025Z
LAST-MODIFIED:20200330T172202Z
UID:10000509-1606154400-1606159800@www.riprc.org
SUMMARY:Strong Arms Support Group
DESCRIPTION:Do you have a loved one struggling with substance use or who is lost in the throes of addiction? Whether your child or loved one is actively using or you have lost someone to addiction\, join us as we come together to support one another through this journey of hope. \nFor additional information\, contact Terri Censabella or Kate Tokarski at info@charihoyouth.org
URL:https://www.riprc.org/event/strong-arms-support-group-4/2020-11-23/
LOCATION:Hope Recovery Center\, 55 Beach Street\, Westerly\, RI\, 02840\, United States
END:VEVENT
BEGIN:VEVENT
DTSTART;TZID=America/New_York:20201026T180000
DTEND;TZID=America/New_York:20201026T193000
DTSTAMP:20260424T133416
CREATED:20200127T202025Z
LAST-MODIFIED:20200330T172202Z
UID:10000508-1603735200-1603740600@www.riprc.org
SUMMARY:Strong Arms Support Group
DESCRIPTION:Do you have a loved one struggling with substance use or who is lost in the throes of addiction? Whether your child or loved one is actively using or you have lost someone to addiction\, join us as we come together to support one another through this journey of hope. \nFor additional information\, contact Terri Censabella or Kate Tokarski at info@charihoyouth.org
URL:https://www.riprc.org/event/strong-arms-support-group-4/2020-10-26/
LOCATION:Hope Recovery Center\, 55 Beach Street\, Westerly\, RI\, 02840\, United States
END:VEVENT
BEGIN:VEVENT
DTSTART;TZID=America/New_York:20200928T180000
DTEND;TZID=America/New_York:20200928T193000
DTSTAMP:20260424T133416
CREATED:20200127T202025Z
LAST-MODIFIED:20200330T172202Z
UID:10000507-1601316000-1601321400@www.riprc.org
SUMMARY:Strong Arms Support Group
DESCRIPTION:Do you have a loved one struggling with substance use or who is lost in the throes of addiction? Whether your child or loved one is actively using or you have lost someone to addiction\, join us as we come together to support one another through this journey of hope. \nFor additional information\, contact Terri Censabella or Kate Tokarski at info@charihoyouth.org
URL:https://www.riprc.org/event/strong-arms-support-group-4/2020-09-28/
LOCATION:Hope Recovery Center\, 55 Beach Street\, Westerly\, RI\, 02840\, United States
END:VEVENT
BEGIN:VEVENT
DTSTART;TZID=America/New_York:20200817T180000
DTEND;TZID=America/New_York:20200817T193000
DTSTAMP:20260424T133416
CREATED:20200127T202025Z
LAST-MODIFIED:20200330T172202Z
UID:10000506-1597687200-1597692600@www.riprc.org
SUMMARY:Strong Arms Support Group
DESCRIPTION:Do you have a loved one struggling with substance use or who is lost in the throes of addiction? Whether your child or loved one is actively using or you have lost someone to addiction\, join us as we come together to support one another through this journey of hope. \nFor additional information\, contact Terri Censabella or Kate Tokarski at info@charihoyouth.org
URL:https://www.riprc.org/event/strong-arms-support-group-4/2020-08-17/
LOCATION:Hope Recovery Center\, 55 Beach Street\, Westerly\, RI\, 02840\, United States
END:VEVENT
BEGIN:VEVENT
DTSTART;TZID=America/New_York:20200720T180000
DTEND;TZID=America/New_York:20200720T193000
DTSTAMP:20260424T133416
CREATED:20200127T202025Z
LAST-MODIFIED:20200330T172202Z
UID:10000505-1595268000-1595273400@www.riprc.org
SUMMARY:Strong Arms Support Group
DESCRIPTION:Do you have a loved one struggling with substance use or who is lost in the throes of addiction? Whether your child or loved one is actively using or you have lost someone to addiction\, join us as we come together to support one another through this journey of hope. \nFor additional information\, contact Terri Censabella or Kate Tokarski at info@charihoyouth.org
URL:https://www.riprc.org/event/strong-arms-support-group-4/2020-07-20/
LOCATION:Hope Recovery Center\, 55 Beach Street\, Westerly\, RI\, 02840\, United States
END:VEVENT
BEGIN:VEVENT
DTSTART;TZID=America/New_York:20200323T180000
DTEND;TZID=America/New_York:20200323T193000
DTSTAMP:20260424T133416
CREATED:20200127T202025Z
LAST-MODIFIED:20200330T172202Z
UID:10000504-1584986400-1584991800@www.riprc.org
SUMMARY:Strong Arms Support Group
DESCRIPTION:Do you have a loved one struggling with substance use or who is lost in the throes of addiction? Whether your child or loved one is actively using or you have lost someone to addiction\, join us as we come together to support one another through this journey of hope. \nFor additional information\, contact Terri Censabella or Kate Tokarski at info@charihoyouth.org
URL:https://www.riprc.org/event/strong-arms-support-group-4/2020-03-23/
LOCATION:Hope Recovery Center\, 55 Beach Street\, Westerly\, RI\, 02840\, United States
END:VEVENT
BEGIN:VEVENT
DTSTART;TZID=America/New_York:20200224T180000
DTEND;TZID=America/New_York:20200224T193000
DTSTAMP:20260424T133416
CREATED:20200127T202025Z
LAST-MODIFIED:20200330T172202Z
UID:10000503-1582567200-1582572600@www.riprc.org
SUMMARY:Strong Arms Support Group
DESCRIPTION:Do you have a loved one struggling with substance use or who is lost in the throes of addiction? Whether your child or loved one is actively using or you have lost someone to addiction\, join us as we come together to support one another through this journey of hope. \nFor additional information\, contact Terri Censabella or Kate Tokarski at info@charihoyouth.org
URL:https://www.riprc.org/event/strong-arms-support-group-4/2020-02-24/
LOCATION:Hope Recovery Center\, 55 Beach Street\, Westerly\, RI\, 02840\, United States
END:VEVENT
BEGIN:VEVENT
DTSTART;TZID=America/New_York:20200127T180000
DTEND;TZID=America/New_York:20200127T193000
DTSTAMP:20260424T133416
CREATED:20200127T202025Z
LAST-MODIFIED:20200330T172202Z
UID:10000502-1580148000-1580153400@www.riprc.org
SUMMARY:Strong Arms Support Group
DESCRIPTION:Do you have a loved one struggling with substance use or who is lost in the throes of addiction? Whether your child or loved one is actively using or you have lost someone to addiction\, join us as we come together to support one another through this journey of hope. \nFor additional information\, contact Terri Censabella or Kate Tokarski at info@charihoyouth.org
URL:https://www.riprc.org/event/strong-arms-support-group-4/2020-01-27/
LOCATION:Hope Recovery Center\, 55 Beach Street\, Westerly\, RI\, 02840\, United States
END:VEVENT
END:VCALENDAR