BEGIN:VCALENDAR
VERSION:2.0
PRODID:-//Rhode Island Prevention Resource Center (RIPRC) - ECPv6.15.20//NONSGML v1.0//EN
CALSCALE:GREGORIAN
METHOD:PUBLISH
X-ORIGINAL-URL:https://www.riprc.org
X-WR-CALDESC:Events for Rhode Island Prevention Resource Center (RIPRC)
REFRESH-INTERVAL;VALUE=DURATION:PT1H
X-Robots-Tag:noindex
X-PUBLISHED-TTL:PT1H
BEGIN:VTIMEZONE
TZID:America/New_York
BEGIN:DAYLIGHT
TZOFFSETFROM:-0500
TZOFFSETTO:-0400
TZNAME:EDT
DTSTART:20180311T070000
END:DAYLIGHT
BEGIN:STANDARD
TZOFFSETFROM:-0400
TZOFFSETTO:-0500
TZNAME:EST
DTSTART:20181104T060000
END:STANDARD
BEGIN:DAYLIGHT
TZOFFSETFROM:-0500
TZOFFSETTO:-0400
TZNAME:EDT
DTSTART:20190310T070000
END:DAYLIGHT
BEGIN:STANDARD
TZOFFSETFROM:-0400
TZOFFSETTO:-0500
TZNAME:EST
DTSTART:20191103T060000
END:STANDARD
BEGIN:DAYLIGHT
TZOFFSETFROM:-0500
TZOFFSETTO:-0400
TZNAME:EDT
DTSTART:20200308T070000
END:DAYLIGHT
BEGIN:STANDARD
TZOFFSETFROM:-0400
TZOFFSETTO:-0500
TZNAME:EST
DTSTART:20201101T060000
END:STANDARD
END:VTIMEZONE
BEGIN:VEVENT
DTSTART;TZID=America/New_York:20190907T140000
DTEND;TZID=America/New_York:20190907T180000
DTSTAMP:20260423T124905
CREATED:20190827T184347Z
LAST-MODIFIED:20190827T184347Z
UID:10000989-1567864800-1567879200@www.riprc.org
SUMMARY:Rally for Recovery - Opening Ceremony
DESCRIPTION:The opening ceremony of the 2019 Rally 4 Recovery will take place at the Warwick Mall (between Target and Firestone).
URL:https://www.riprc.org/event/rally-for-recovery-opening-ceremony/
LOCATION:Warwick Mall\, Warwick\, RI\, United States
END:VEVENT
BEGIN:VEVENT
DTSTART;TZID=America/New_York:20190907T100000
DTEND;TZID=America/New_York:20190907T160000
DTSTAMP:20260423T124905
CREATED:20190827T190629Z
LAST-MODIFIED:20190827T190629Z
UID:10000991-1567850400-1567872000@www.riprc.org
SUMMARY:Back to School Expo
DESCRIPTION:This back to school event will be hosted at the Warwick Mall. The Kent Prevention Coalition will have prevention information to prepare parents for back to school.
URL:https://www.riprc.org/event/back-to-school-expo/
LOCATION:Warwick Mall\, Warwick\, RI\, United States
END:VEVENT
END:VCALENDAR