BEGIN:VCALENDAR
VERSION:2.0
PRODID:-//Rhode Island Prevention Resource Center (RIPRC) - ECPv6.15.20//NONSGML v1.0//EN
CALSCALE:GREGORIAN
METHOD:PUBLISH
X-ORIGINAL-URL:https://www.riprc.org
X-WR-CALDESC:Events for Rhode Island Prevention Resource Center (RIPRC)
REFRESH-INTERVAL;VALUE=DURATION:PT1H
X-Robots-Tag:noindex
X-PUBLISHED-TTL:PT1H
BEGIN:VTIMEZONE
TZID:America/New_York
BEGIN:DAYLIGHT
TZOFFSETFROM:-0500
TZOFFSETTO:-0400
TZNAME:EDT
DTSTART:20180311T070000
END:DAYLIGHT
BEGIN:STANDARD
TZOFFSETFROM:-0400
TZOFFSETTO:-0500
TZNAME:EST
DTSTART:20181104T060000
END:STANDARD
BEGIN:DAYLIGHT
TZOFFSETFROM:-0500
TZOFFSETTO:-0400
TZNAME:EDT
DTSTART:20190310T070000
END:DAYLIGHT
BEGIN:STANDARD
TZOFFSETFROM:-0400
TZOFFSETTO:-0500
TZNAME:EST
DTSTART:20191103T060000
END:STANDARD
BEGIN:DAYLIGHT
TZOFFSETFROM:-0500
TZOFFSETTO:-0400
TZNAME:EDT
DTSTART:20200308T070000
END:DAYLIGHT
BEGIN:STANDARD
TZOFFSETFROM:-0400
TZOFFSETTO:-0500
TZNAME:EST
DTSTART:20201101T060000
END:STANDARD
BEGIN:DAYLIGHT
TZOFFSETFROM:-0500
TZOFFSETTO:-0400
TZNAME:EDT
DTSTART:20210314T070000
END:DAYLIGHT
BEGIN:STANDARD
TZOFFSETFROM:-0400
TZOFFSETTO:-0500
TZNAME:EST
DTSTART:20211107T060000
END:STANDARD
END:VTIMEZONE
BEGIN:VEVENT
DTSTART;TZID=America/New_York:20200202T180000
DTEND;TZID=America/New_York:20200202T180000
DTSTAMP:20260424T004454
CREATED:20200127T155809Z
LAST-MODIFIED:20200127T155809Z
UID:10000488-1580666400-1580666400@www.riprc.org
SUMMARY:Sober Super Bowl
DESCRIPTION:Snacks and beverages available! \nFor more information\, please email Cathy Schultz at CathyS@thundermisthealth.org
URL:https://www.riprc.org/event/sober-super-bowl/
LOCATION:West Warwick Health Equity Zone (HEZ)\, 1229 Main Street\, West Warwick\, RI\, United States
END:VEVENT
BEGIN:VEVENT
DTSTART;TZID=America/New_York:20200129T163000
DTEND;TZID=America/New_York:20200129T200000
DTSTAMP:20260424T004454
CREATED:20200106T190239Z
LAST-MODIFIED:20200106T190239Z
UID:10001360-1580315400-1580328000@www.riprc.org
SUMMARY:Youth mental Health First Aid Training
DESCRIPTION:Youth Mental Health First Aid is designed to teach parents\, family members\, caregivers\, teachers\, school staff\, peers\, neighbors\, health and human services workers\, and other caring citizens how to help an adolescent (age 12-18) who is experiencing a mental health or addictions challenge or is in crisis. Youth Mental Health First Aid is primarily designed for adults who regularly interact with young people. The course introduces common mental health challenges for youth\, reviews typical adolescent development\, and teaches a 5-step action plan for how to help young people in both crisis and non-crisis situations. Topics covered include anxiety\, depression\, substance use\, disorders in which psychosis may occur\, disruptive behavior disorders (including AD/HD)\, and eating disorders. \nThis a an eight hour certificate program and is a superb training for anyone who works with teens. \nFor more information\, contact Kathy Sullivan at ksullivan@risas.org
URL:https://www.riprc.org/event/youth-mental-health-first-aid-training/2020-01-29/
LOCATION:West Warwick Health Equity Zone (HEZ)\, 1229 Main Street\, West Warwick\, RI\, United States
END:VEVENT
BEGIN:VEVENT
DTSTART;TZID=America/New_York:20200127T163000
DTEND;TZID=America/New_York:20200127T200000
DTSTAMP:20260424T004454
CREATED:20200106T190239Z
LAST-MODIFIED:20200106T190239Z
UID:10001359-1580142600-1580155200@www.riprc.org
SUMMARY:Youth mental Health First Aid Training
DESCRIPTION:Youth Mental Health First Aid is designed to teach parents\, family members\, caregivers\, teachers\, school staff\, peers\, neighbors\, health and human services workers\, and other caring citizens how to help an adolescent (age 12-18) who is experiencing a mental health or addictions challenge or is in crisis. Youth Mental Health First Aid is primarily designed for adults who regularly interact with young people. The course introduces common mental health challenges for youth\, reviews typical adolescent development\, and teaches a 5-step action plan for how to help young people in both crisis and non-crisis situations. Topics covered include anxiety\, depression\, substance use\, disorders in which psychosis may occur\, disruptive behavior disorders (including AD/HD)\, and eating disorders. \nThis a an eight hour certificate program and is a superb training for anyone who works with teens. \nFor more information\, contact Kathy Sullivan at ksullivan@risas.org
URL:https://www.riprc.org/event/youth-mental-health-first-aid-training/2020-01-27/
LOCATION:West Warwick Health Equity Zone (HEZ)\, 1229 Main Street\, West Warwick\, RI\, United States
END:VEVENT
BEGIN:VEVENT
DTSTART;TZID=America/New_York:20190820T080000
DTEND;TZID=America/New_York:20190820T160000
DTSTAMP:20260424T004454
CREATED:20190715T144855Z
LAST-MODIFIED:20190715T144855Z
UID:10000130-1566288000-1566316800@www.riprc.org
SUMMARY:Youth Mental Health First Aid
DESCRIPTION:Youth Mental Health First Aid teaches you how to identify\, understand and respond to signs of mental illnesses and substance use disorders. This 8-hour training gives adults who work with youth the skills they need to reach out and provide initial support to adolescents (ages 12-18) who may be developing a mental health or substance use problem and help connect them to the Z appropriate care. \nThis is a free training. Space is limited. Please register by emailing ksullivan@risas.org.
URL:https://www.riprc.org/event/youth-mental-health-first-aid-5/
LOCATION:West Warwick Health Equity Zone (HEZ)\, 1229 Main Street\, West Warwick\, RI\, United States
END:VEVENT
BEGIN:VEVENT
DTSTART;TZID=America/New_York:20190806T090000
DTEND;TZID=America/New_York:20190806T170000
DTSTAMP:20260424T004454
CREATED:20190715T145107Z
LAST-MODIFIED:20190715T145107Z
UID:10000131-1565082000-1565110800@www.riprc.org
SUMMARY:Youth Mental Health First Aid
DESCRIPTION:Youth Mental Health First Aid teaches you how to identify\, understand and respond to signs of mental illnesses and substance use disorders. This 8-hour training gives adults who work with youth the skills they need to reach out and provide initial support to adolescents (ages 12-18) who may be developing a mental health or substance use problem and help connect them to the appropriate care. \nThis is a free training. Space is limited. Please register by emailing ksullivan@risas.org.
URL:https://www.riprc.org/event/youth-mental-health-first-aid-6/
LOCATION:West Warwick Health Equity Zone (HEZ)\, 1229 Main Street\, West Warwick\, RI\, United States
END:VEVENT
END:VCALENDAR